BEGIN:VCALENDAR
PRODID:-//eluceo/ical//2.0/EN
VERSION:2.0
CALSCALE:GREGORIAN
BEGIN:VEVENT
UID:f2bec511d7df3d83e1bdf4d435cbf9cb
DTSTAMP:20260423T074453Z
SUMMARY:Israel Bonds Reception
DESCRIPTION:Jewish Federation of Central Massachusetts\nCalendar\nhttps://j
 ewishcentralmass.org/calendar/israel-bonds-reception\n\nIsrael Bonds Recep
 tion
DTSTART;TZID=America/New_York:20130611T180000
DTEND;TZID=America/New_York:20130611T200000
END:VEVENT
END:VCALENDAR
