BEGIN:VCALENDAR
PRODID:-//eluceo/ical//2.0/EN
VERSION:2.0
CALSCALE:GREGORIAN
BEGIN:VEVENT
UID:728a16a419b6d4b47fa76052879bfa63
DTSTAMP:20260422T011402Z
SUMMARY:Intermediate Day 5785
DESCRIPTION:Jewish Federation of Central Massachusetts\nCalendar\nhttps://j
 ewishcentralmass.org/calendar/intermediate-day-5785\n\nIntermediate Day
DTSTART;TZID=America/New_York:20241019T000000
DTEND;TZID=America/New_York:20241022T235959
END:VEVENT
END:VCALENDAR
