BEGIN:VCALENDAR
PRODID:-//eluceo/ical//2.0/EN
VERSION:2.0
CALSCALE:GREGORIAN
BEGIN:VEVENT
UID:0964c190b54141d8c4d98f668abf30ee
DTSTAMP:20260422T213937Z
SUMMARY:Inter-Religion Advocacy Delegation -- SNEC
DESCRIPTION:Jewish Federation of Central Massachusetts\nCalendar\nhttps://j
 ewishcentralmass.org/calendar/inter-religion-advocacy-delegation-snec\n\nI
 nter-Religion Advocacy Delegation -- SNEC \n\nNovember 14 at 7:00PM.
DTSTART;TZID=America/New_York:20181114T190000
DTEND;TZID=America/New_York:20181114T210000
END:VEVENT
END:VCALENDAR
