BEGIN:VCALENDAR
PRODID:-//eluceo/ical//2.0/EN
VERSION:2.0
CALSCALE:GREGORIAN
BEGIN:VEVENT
UID:e83d5797c37249c47bb734735057092f
DTSTAMP:20260422T170844Z
SUMMARY:IDF Women Pilots
DESCRIPTION:Jewish Federation of Central Massachusetts\nCalendar\nhttps://j
 ewishcentralmass.org/calendar/idf-women-pilots\n\nIDF Women Pilots
DTSTART;TZID=America/New_York:20130813T190000
DTEND;TZID=America/New_York:20130813T193000
END:VEVENT
END:VCALENDAR
