BEGIN:VCALENDAR
PRODID:-//eluceo/ical//2.0/EN
VERSION:2.0
CALSCALE:GREGORIAN
BEGIN:VEVENT
UID:addd0f868cba08e7016ad3636581335b
DTSTAMP:20260421T000900Z
SUMMARY:Holocaust Remembrance Program at City Hall Flagpole
DESCRIPTION:Jewish Federation of Central Massachusetts\nCalendar\nhttps://j
 ewishcentralmass.org/calendar/holocaust-remembrance-program-at-city-hall-f
 lag-pole\n\nFri. Jan 26 at 3:00 pm\n\nHolocaust Remembrance Program at Cit
 y Hall Flagpole\, flag raising of Warsaw Ghetto Uprising \n\n 
DTSTART;TZID=America/New_York:20240126T150000
DTEND;TZID=America/New_York:20240126T160000
END:VEVENT
END:VCALENDAR
