BEGIN:VCALENDAR
PRODID:-//eluceo/ical//2.0/EN
VERSION:2.0
CALSCALE:GREGORIAN
BEGIN:VEVENT
UID:bf9f10b63d03f62fcdea3e69c436f28b
DTSTAMP:20260423T054801Z
SUMMARY:History of the Bagel with Carol Kaufman 9:30 a.m.
DESCRIPTION:Jewish Federation of Central Massachusetts\nCalendar\nhttps://j
 ewishcentralmass.org/calendar/history-of-the-bagel-with-carol-kaufman-930-
 am\n\nHistory of the Bagel with Carol Kaufman 9:30 a.m.\n\nTo get more inf
 ormation\, including log in info\, contact the Beth Israel office at 508-
 756-6204.\n\n 
DTSTART;TZID=America/New_York:20200524T093000
DTEND;TZID=America/New_York:20200524T110000
END:VEVENT
END:VCALENDAR
