BEGIN:VCALENDAR
PRODID:-//eluceo/ical//2.0/EN
VERSION:2.0
CALSCALE:GREGORIAN
BEGIN:VEVENT
UID:b63111bdeb335492419180f8e0401731
DTSTAMP:20260424T152455Z
SUMMARY:Historical Society Program
DESCRIPTION:Jewish Federation of Central Massachusetts\nCalendar\nhttps://j
 ewishcentralmass.org/calendar/historical-society-program\n\nHistorical Soc
 iety Program at STW\n\n11:00 am
DTSTART;TZID=America/New_York:20231112T110000
DTEND;TZID=America/New_York:20231112T130000
END:VEVENT
END:VCALENDAR
