BEGIN:VCALENDAR
PRODID:-//eluceo/ical//2.0/EN
VERSION:2.0
CALSCALE:GREGORIAN
BEGIN:VEVENT
UID:dfa5bec554dc65a8443b07e3c4a6f029
DTSTAMP:20260421T122313Z
SUMMARY:Hillel Panel on Hunger with Steven Schimmel and Congressman McGover
 n
DESCRIPTION:Jewish Federation of Central Massachusetts\nCalendar\nhttps://j
 ewishcentralmass.org/calendar/hillel-panel-on-hunger-with-steven-schimmel-
 and-congressman-mcgovern\n\nApril 13 Hillel Panel on Hunger with Steven Sc
 himmel and Congressman McGovern
DTSTART;TZID=America/New_York:20220413T120000
DTEND;TZID=America/New_York:20220413T180000
END:VEVENT
END:VCALENDAR
