BEGIN:VCALENDAR
PRODID:-//eluceo/ical//2.0/EN
VERSION:2.0
CALSCALE:GREGORIAN
BEGIN:VEVENT
UID:222f5eeac58509fd5f253d1119b6549e
DTSTAMP:20260423T184650Z
SUMMARY:Hillel Meeting
DESCRIPTION:Jewish Federation of Central Massachusetts\nCalendar\nhttps://j
 ewishcentralmass.org/calendar/hillel-meeting\n\nHillel Meeting\n\nMay 14\n
 \nTime: TBA
DTSTART;TZID=America/New_York:20250514T180000
DTEND;TZID=America/New_York:20250514T200000
END:VEVENT
END:VCALENDAR
