BEGIN:VCALENDAR
PRODID:-//eluceo/ical//2.0/EN
VERSION:2.0
CALSCALE:GREGORIAN
BEGIN:VEVENT
UID:003712bb08bf62b76e5f6c0888069b52
DTSTAMP:20260422T141128Z
SUMMARY:Hillel Event with Cantor Jonathan Kohan
DESCRIPTION:Jewish Federation of Central Massachusetts\nCalendar\nhttps://j
 ewishcentralmass.org/calendar/hillel-event-with-cantor-jonathan-kohan\n\nA
 pril 21 at Clark University\, Hillel Event with Cantor Jonathan Kohan \n\n
 Time TBD
DTSTART;TZID=America/New_York:20250421T180000
DTEND;TZID=America/New_York:20250421T200000
END:VEVENT
END:VCALENDAR
