BEGIN:VCALENDAR
PRODID:-//eluceo/ical//2.0/EN
VERSION:2.0
CALSCALE:GREGORIAN
BEGIN:VEVENT
UID:53a5fbd5d9eeaaf081eb4183de8b9509
DTSTAMP:20260422T151522Z
SUMMARY:Hillel Advisory Council
DESCRIPTION:Jewish Federation of Central Massachusetts\nCalendar\nhttps://j
 ewishcentralmass.org/calendar/hillel-advisory-council\n\nHillel Advisory C
 ouncil\n\nWednesday\, September 18\n\n5:00 pm
DTSTART;TZID=America/New_York:20240918T170000
DTEND;TZID=America/New_York:20240918T190000
END:VEVENT
END:VCALENDAR
