BEGIN:VCALENDAR
PRODID:-//eluceo/ical//2.0/EN
VERSION:2.0
CALSCALE:GREGORIAN
BEGIN:VEVENT
UID:fb6d45280c1dd60b4e7007a91fcf3038
DTSTAMP:20260421T120153Z
SUMMARY:Hebrew High Graduation
DESCRIPTION:Jewish Federation of Central Massachusetts\nCalendar\nhttps://j
 ewishcentralmass.org/calendar/hebrew-high-graduation\n\nHebrew High Gradua
 tion
DTSTART;TZID=America/New_York:20150517T190000
DTEND;TZID=America/New_York:20150517T210000
END:VEVENT
END:VCALENDAR
