BEGIN:VCALENDAR
PRODID:-//eluceo/ical//2.0/EN
VERSION:2.0
CALSCALE:GREGORIAN
BEGIN:VEVENT
UID:5ad742c2147fef0687f8690e2fda35f2
DTSTAMP:20260421T184717Z
SUMMARY:Havdalah with the Fellman Family at 9:00 p.m
DESCRIPTION:Jewish Federation of Central Massachusetts\nCalendar\nhttps://j
 ewishcentralmass.org/calendar/havdalah-with-the-fellman-family-at-900-pm\n
 \nHavdalah with the Fellman Family at 9:00 p.m\n\nTo get more information\
 , including log in info\, contact the Beth Israel office at 508-756-6204.
 \n\n 
DTSTART;TZID=America/New_York:20200516T210000
DTEND;TZID=America/New_York:20200516T220000
END:VEVENT
END:VCALENDAR
