BEGIN:VCALENDAR
PRODID:-//eluceo/ical//2.0/EN
VERSION:2.0
CALSCALE:GREGORIAN
BEGIN:VEVENT
UID:3d9d0ab2a5dcff90c31aefc4ce4d5cc1
DTSTAMP:20260423T011249Z
SUMMARY:Havdalah\, Melavah Malkah and Tikkun Leyl Shavuot 9:15 pm
DESCRIPTION:Jewish Federation of Central Massachusetts\nCalendar\nhttps://j
 ewishcentralmass.org/calendar/havdalah-melavah-malkah-and-tikkun-leyl-shav
 uot-915-pm\n\nHavdalah\, Melavah Malkah and Tikkun Leyl Shavuot 9:15 pm\n\
 nTo get more information\, including log in info\, contact the Beth Israel
  office at 508-756-6204.\n\n 
DTSTART;TZID=America/New_York:20200530T211500
DTEND;TZID=America/New_York:20200530T221500
END:VEVENT
END:VCALENDAR
