BEGIN:VCALENDAR
PRODID:-//eluceo/ical//2.0/EN
VERSION:2.0
CALSCALE:GREGORIAN
BEGIN:VEVENT
UID:7b4b6b63ee6ec67a97186836b0ed24c0
DTSTAMP:20260424T022209Z
SUMMARY:Hanukkah - 5785
DESCRIPTION:Jewish Federation of Central Massachusetts\nCalendar\nhttps://j
 ewishcentralmass.org/calendar/hanukkah-5785\n\nHanukkah - 5785
DTSTART;TZID=America/New_York:20241225T000000
DTEND;TZID=America/New_York:20250102T235959
END:VEVENT
END:VCALENDAR
