BEGIN:VCALENDAR
PRODID:-//eluceo/ical//2.0/EN
VERSION:2.0
CALSCALE:GREGORIAN
BEGIN:VEVENT
UID:df9497f67f33dc3dbb4d71c818e872fc
DTSTAMP:20260423T003411Z
SUMMARY:Haggadot of Hope- Emissary Program
DESCRIPTION:Jewish Federation of Central Massachusetts\nCalendar\nhttps://j
 ewishcentralmass.org/calendar/haggadot-of-hope-emissary-program\n\nSunday\
 , March 29\n\nHaggadot of Hope- Emissary Program\n\nDetails: TBA
DTSTART;TZID=America/New_York:20260329T140000
DTEND;TZID=America/New_York:20260329T180000
END:VEVENT
END:VCALENDAR
