BEGIN:VCALENDAR
PRODID:-//eluceo/ical//2.0/EN
VERSION:2.0
CALSCALE:GREGORIAN
BEGIN:VEVENT
UID:e40a101a1f2e265663fd16aa28140f63
DTSTAMP:20260424T130702Z
SUMMARY:Federation/Hadassah Women: Speak Out as Women
DESCRIPTION:Jewish Federation of Central Massachusetts\nCalendar\nhttps://j
 ewishcentralmass.org/calendar/hadassahwomen\n\nFederation/Hadassah Women: 
 Speak Out as Women\n\nMay 9 at 7:00 pm\n\nWorcester JCC
DTSTART;TZID=America/New_York:20240509T190000
DTEND;TZID=America/New_York:20240509T210000
END:VEVENT
END:VCALENDAR
