BEGIN:VCALENDAR
PRODID:-//eluceo/ical//2.0/EN
VERSION:2.0
CALSCALE:GREGORIAN
BEGIN:VEVENT
UID:e3cd0f48fe3455f78c4f923f8dde90fd
DTSTAMP:20260421T103558Z
SUMMARY:Hadassah/Federation program with Elaine Weiss
DESCRIPTION:Jewish Federation of Central Massachusetts\nCalendar\nhttps://j
 ewishcentralmass.org/calendar/hadassahfederation-program-with-elaine-weiss
 \n\nNovember 10 - Hadassah/Federation program with Elaine Weiss\, author o
 f The Woman’s Hour: the Great Fight to Win the Vote\n\n7:00 pm via Zoom
DTSTART;TZID=America/New_York:20201110T190000
DTEND;TZID=America/New_York:20201110T200000
END:VEVENT
END:VCALENDAR
