BEGIN:VCALENDAR
PRODID:-//eluceo/ical//2.0/EN
VERSION:2.0
CALSCALE:GREGORIAN
BEGIN:VEVENT
UID:b59f1a740391c0fe32002748267801cc
DTSTAMP:20260423T121348Z
SUMMARY:Hadassah Walk for Women's Health
DESCRIPTION:Jewish Federation of Central Massachusetts\nCalendar\nhttps://j
 ewishcentralmass.org/calendar/hadassah-walk-for-womens-health\n\nHadassah 
 Walk for Women's Health\n\nDetails: TBA
DTSTART;TZID=America/New_York:20240922T000000
DTEND;TZID=America/New_York:20240922T235959
END:VEVENT
END:VCALENDAR
