BEGIN:VCALENDAR
PRODID:-//eluceo/ical//2.0/EN
VERSION:2.0
CALSCALE:GREGORIAN
BEGIN:VEVENT
UID:73c9a215f1919851db234ab6dba77fff
DTSTAMP:20260422T055112Z
SUMMARY:Hadassah showing Film "Body and Soul"
DESCRIPTION:Jewish Federation of Central Massachusetts\nCalendar\nhttps://j
 ewishcentralmass.org/calendar/hadassah-showing-film-body-and-soul\n\nGreat
 er Worcester Chapter Hadassah is showing "Body and Soul" the latest film b
 y filmmaker Gloria Greenfield at the Willows in Worcester in the Great Roo
 m.
DTSTART;TZID=America/New_York:20150322T130000
DTEND;TZID=America/New_York:20150322T150000
END:VEVENT
END:VCALENDAR
