BEGIN:VCALENDAR
PRODID:-//eluceo/ical//2.0/EN
VERSION:2.0
CALSCALE:GREGORIAN
BEGIN:VEVENT
UID:dc42af44609d960df2e9e3fad4280cb4
DTSTAMP:20260421T213420Z
SUMMARY:Hadassah presents Standing with Israel in 2018 Challenges and Oppor
 tunities
DESCRIPTION:Jewish Federation of Central Massachusetts\nCalendar\nhttps://j
 ewishcentralmass.org/calendar/hadassah-presents-standing-with-israel-in-20
 18-challenges-and-opportunities\n\nHadassah Northeast presents Standing wi
 th Israel in 2018: Challenges and Opportunities at Beth Tikvah\n\n9:30 ref
 reshments\n\n10:00 am program
DTSTART;TZID=America/New_York:20181028T093000
DTEND;TZID=America/New_York:20181028T113000
END:VEVENT
END:VCALENDAR
