BEGIN:VCALENDAR
PRODID:-//eluceo/ical//2.0/EN
VERSION:2.0
CALSCALE:GREGORIAN
BEGIN:VEVENT
UID:1b9f2ba7ea0e53bfe0787724f7c6cac6
DTSTAMP:20260421T220009Z
SUMMARY:Hadassah New England Weekend Retreat in the Berkshires
DESCRIPTION:Jewish Federation of Central Massachusetts\nCalendar\nhttps://j
 ewishcentralmass.org/calendar/hadassah-new-england-weekend-retreat-in-the-
 berkshires\n\nHadassah New England Weekend Retreat
DTSTART;TZID=America/New_York:20140405T000000
DTEND;TZID=America/New_York:20140406T235900
END:VEVENT
END:VCALENDAR
