BEGIN:VCALENDAR
PRODID:-//eluceo/ical//2.0/EN
VERSION:2.0
CALSCALE:GREGORIAN
BEGIN:VEVENT
UID:9eeddd7ffaf0e6979cec04194b99f21b
DTSTAMP:20260422T115000Z
SUMMARY:Hadassah: Making a Mystery with Sisters in Crime
DESCRIPTION:Jewish Federation of Central Massachusetts\nCalendar\nhttps://j
 ewishcentralmass.org/calendar/hadassah-making-a-mystery-with-sisters-in-cr
 ime\n\nHadassah: Making a Mystery with Sisters in Crime\n\n7:00 pm
DTSTART;TZID=America/New_York:20240910T190000
DTEND;TZID=America/New_York:20240910T210000
END:VEVENT
END:VCALENDAR
