BEGIN:VCALENDAR
PRODID:-//eluceo/ical//2.0/EN
VERSION:2.0
CALSCALE:GREGORIAN
BEGIN:VEVENT
UID:5bb1b931f0b40169199d3f4989333855
DTSTAMP:20260424T214008Z
SUMMARY:Hadassah Knitting
DESCRIPTION:Jewish Federation of Central Massachusetts\nCalendar\nhttps://j
 ewishcentralmass.org/calendar/hadassah-knitting\n\nHadassah Knitting\n\n10
 :00 - 12:00 pm
DTSTART;TZID=America/New_York:20220914T100000
DTEND;TZID=America/New_York:20220914T120000
END:VEVENT
END:VCALENDAR
