BEGIN:VCALENDAR
PRODID:-//eluceo/ical//2.0/EN
VERSION:2.0
CALSCALE:GREGORIAN
BEGIN:VEVENT
UID:93592884db549474a23d2e2da414e75a
DTSTAMP:20260423T095635Z
SUMMARY:Hadassah Greater Boroughs Self Defense Class
DESCRIPTION:Jewish Federation of Central Massachusetts\nCalendar\nhttps://j
 ewishcentralmass.org/calendar/hadassah-greater-boroughs-self-defense-class
 \n\nApril 8\, 4:00-5:30 - Hadassah Greater Boroughs Self Defense Class 
DTSTART;TZID=America/New_York:20180408T160000
DTEND;TZID=America/New_York:20180408T173000
END:VEVENT
END:VCALENDAR
