BEGIN:VCALENDAR
PRODID:-//eluceo/ical//2.0/EN
VERSION:2.0
CALSCALE:GREGORIAN
BEGIN:VEVENT
UID:23eae24c4dc1e4e66f54d84f4f8fdbeb
DTSTAMP:20260423T155217Z
SUMMARY:Hadassah Greater Boroughs Membership Event 2024
DESCRIPTION:Jewish Federation of Central Massachusetts\nCalendar\nhttps://j
 ewishcentralmass.org/calendar/hadassah-greater-boroughs-membership-event-2
 024\n\nHadassah Greater Boroughs membership event \n\nSeptember 15 from 10
 :00 am - 2:00 pm
DTSTART;TZID=America/New_York:20240915T100000
DTEND;TZID=America/New_York:20240915T140000
END:VEVENT
END:VCALENDAR
