BEGIN:VCALENDAR
PRODID:-//eluceo/ical//2.0/EN
VERSION:2.0
CALSCALE:GREGORIAN
BEGIN:VEVENT
UID:41e1b5eeaf6415ac3d864fe251492324
DTSTAMP:20260421T213450Z
SUMMARY:Hadassah Greater Boroughs Hanukkah Brunch and Gift Swap
DESCRIPTION:Jewish Federation of Central Massachusetts\nCalendar\nhttps://j
 ewishcentralmass.org/calendar/hadassah-greater-boroughs-hanukkah-brunch-an
 d-gift-swap\n\nSunday\, December 2\, 2018 - 10:30 am-12:30 pm\n\nHadassah 
 Greater Boroughs Hanukkah Brunch and Gift Swap at private home in Westbor
 ough
DTSTART;TZID=America/New_York:20181202T103000
DTEND;TZID=America/New_York:20181202T123000
END:VEVENT
END:VCALENDAR
