BEGIN:VCALENDAR
PRODID:-//eluceo/ical//2.0/EN
VERSION:2.0
CALSCALE:GREGORIAN
BEGIN:VEVENT
UID:8b1b29eac6a31b796c46dec2cc33f393
DTSTAMP:20260421T105631Z
SUMMARY:Hadassah Greater Boroughs Fashion Show
DESCRIPTION:Jewish Federation of Central Massachusetts\nCalendar\nhttps://j
 ewishcentralmass.org/calendar/hadassah-greater-boroughs-fashion-show\n\nTh
 ursday\, November 15\, 2018 -  6:30pm-9:00pm\n\nHadassah Greater Boroughs
  Fashion Show at Sassy You in Northborough
DTSTART;TZID=America/New_York:20181115T183000
DTEND;TZID=America/New_York:20181115T210000
END:VEVENT
END:VCALENDAR
