BEGIN:VCALENDAR
PRODID:-//eluceo/ical//2.0/EN
VERSION:2.0
CALSCALE:GREGORIAN
BEGIN:VEVENT
UID:e05ec050af2040ae81fcec89aa5db201
DTSTAMP:20260423T003401Z
SUMMARY:Hadassah Greater Boroughs Cooking Class
DESCRIPTION:Jewish Federation of Central Massachusetts\nCalendar\nhttps://j
 ewishcentralmass.org/calendar/hadassah-greater-boroughs-cooking-class\n\nM
 arch 8\, 6:30-8:30 - Hadassah Greater Boroughs Cooking Class
DTSTART;TZID=America/New_York:20180308T183000
DTEND;TZID=America/New_York:20180308T203000
END:VEVENT
END:VCALENDAR
