BEGIN:VCALENDAR
PRODID:-//eluceo/ical//2.0/EN
VERSION:2.0
CALSCALE:GREGORIAN
BEGIN:VEVENT
UID:788eb137e6214c2c34aa164073caca1c
DTSTAMP:20260422T043649Z
SUMMARY:Hadassah Greater Boroughs Comedy Night
DESCRIPTION:Jewish Federation of Central Massachusetts\nCalendar\nhttps://j
 ewishcentralmass.org/calendar/hadassah-greater-boroughs-comedy-night\n\nSu
 nday\, April 28\, 2019 - 6:30 pm - 9:00 pm\n\nHadassah Greater Boroughs Co
 medy Night
DTSTART;TZID=America/New_York:20190428T183000
DTEND;TZID=America/New_York:20190428T210000
END:VEVENT
END:VCALENDAR
