BEGIN:VCALENDAR
PRODID:-//eluceo/ical//2.0/EN
VERSION:2.0
CALSCALE:GREGORIAN
BEGIN:VEVENT
UID:6affc2fcc6abb10559240c165108abe2
DTSTAMP:20260422T143737Z
SUMMARY:Hadassah Greater Boroughs Chapter Membership Welcome Back Event
DESCRIPTION:Jewish Federation of Central Massachusetts\nCalendar\nhttps://j
 ewishcentralmass.org/calendar/hadassah-greater-boroughs-chapter-membership
 -welcome-back-event\n\nThursday\, Sep. 19\, 7 pm\n\nHadassah Greater Borou
 ghs Chapter Membership Welcome Back Event at a private home in Westborough
 .\n\n\n 
DTSTART;TZID=America/New_York:20190919T190000
DTEND;TZID=America/New_York:20190919T210000
END:VEVENT
END:VCALENDAR
