BEGIN:VCALENDAR
PRODID:-//eluceo/ical//2.0/EN
VERSION:2.0
CALSCALE:GREGORIAN
BEGIN:VEVENT
UID:a5612d9e99f49a57c945da208f69c656
DTSTAMP:20260422T110544Z
SUMMARY:Hadassah Greater Boroughs Chapter Hanukkah Brunch and Gift Swap
DESCRIPTION:Jewish Federation of Central Massachusetts\nCalendar\nhttps://j
 ewishcentralmass.org/calendar/hadassah-greater-boroughs-chapter-hanukkah-b
 runch-and-gift-swap\n\n  Sunday\, Dec. 15\, 10:30am-1:30pm\n\nHadassah Gr
 eater Boroughs Chapter Hanukkah Brunch and Gift Swap at a private home in 
 Westborough.\n\n\n 
DTSTART;TZID=America/New_York:20191215T103000
DTEND;TZID=America/New_York:20191215T133000
END:VEVENT
END:VCALENDAR
