BEGIN:VCALENDAR
PRODID:-//eluceo/ical//2.0/EN
VERSION:2.0
CALSCALE:GREGORIAN
BEGIN:VEVENT
UID:29666ffc00228f72680c75df7476dca4
DTSTAMP:20260422T121658Z
SUMMARY:Hadassah Greater Boroughs Annual Wine Tasting Fundraiser
DESCRIPTION:Jewish Federation of Central Massachusetts\nCalendar\nhttps://j
 ewishcentralmass.org/calendar/hadassah-greater-boroughs-annual-wine-tastin
 g-fundraiser\n\nApril 28\, 7:00-9:30 -Hadassah Greater Boroughs Annual Win
 e Tasting Fundraiser and Honoring Mindy Hall
DTSTART;TZID=America/New_York:20180428T190000
DTEND;TZID=America/New_York:20180428T213000
END:VEVENT
END:VCALENDAR
