BEGIN:VCALENDAR
PRODID:-//eluceo/ical//2.0/EN
VERSION:2.0
CALSCALE:GREGORIAN
BEGIN:VEVENT
UID:5f06a9d6cd2169e23719efceb3ea6674
DTSTAMP:20260423T233600Z
SUMMARY:Hadassah Greater Boroughs Annual Fundraiser
DESCRIPTION:Jewish Federation of Central Massachusetts\nCalendar\nhttps://j
 ewishcentralmass.org/calendar/hadassah-greater-boroughs-annual-fundraiser\
 n\nHadassah Greater Boroughs Annual Fundraiser\n\nApril 6th at 6:30 PM-9:3
 0 PM (time might change)\n\nArturo's Ristorante\, 54 East Main Street\, We
 stborough\, MA 01581
DTSTART;TZID=America/New_York:20240406T183000
DTEND;TZID=America/New_York:20240406T213000
END:VEVENT
END:VCALENDAR
