BEGIN:VCALENDAR
PRODID:-//eluceo/ical//2.0/EN
VERSION:2.0
CALSCALE:GREGORIAN
BEGIN:VEVENT
UID:28f88a0120b217c0eb18a3bbf095c4e1
DTSTAMP:20260423T123641Z
SUMMARY:Hadassah Federation event
DESCRIPTION:Jewish Federation of Central Massachusetts\nCalendar\nhttps://j
 ewishcentralmass.org/calendar/hadassah-federation-event\n\n Hadassah Fede
 ration event\n\n Location TBD.\n\nOctober 15 at 4pm
DTSTART;TZID=America/New_York:20231015T160000
DTEND;TZID=America/New_York:20231015T180000
END:VEVENT
END:VCALENDAR
