BEGIN:VCALENDAR
PRODID:-//eluceo/ical//2.0/EN
VERSION:2.0
CALSCALE:GREGORIAN
BEGIN:VEVENT
UID:bdeafe4d9c5a2e5edfe38c0fc32a0cc4
DTSTAMP:20260423T003928Z
SUMMARY:Hadassah Fashion Show
DESCRIPTION:Jewish Federation of Central Massachusetts\nCalendar\nhttps://j
 ewishcentralmass.org/calendar/hadassah-fashion-show\n\nHadassah Fashion Sh
 ow
DTSTART;TZID=America/New_York:20211109T180000
DTEND;TZID=America/New_York:20211109T200000
END:VEVENT
END:VCALENDAR
