BEGIN:VCALENDAR
PRODID:-//eluceo/ical//2.0/EN
VERSION:2.0
CALSCALE:GREGORIAN
BEGIN:VEVENT
UID:a907b2b5f0049e849c3c3378f8e90d0b
DTSTAMP:20260425T001308Z
SUMMARY:Hadassah Donor Program
DESCRIPTION:Jewish Federation of Central Massachusetts\nCalendar\nhttps://j
 ewishcentralmass.org/calendar/hadassah-donor-program\n\nHadassah Donor Pro
 gram\n\nSunday\, September 18 at 11:30 am
DTSTART;TZID=America/New_York:20220918T113000
DTEND;TZID=America/New_York:20220918T133000
END:VEVENT
END:VCALENDAR
