BEGIN:VCALENDAR
PRODID:-//eluceo/ical//2.0/EN
VERSION:2.0
CALSCALE:GREGORIAN
BEGIN:VEVENT
UID:3242c82240eae436b1c54f651bf5ea9e
DTSTAMP:20260423T070905Z
SUMMARY:Hadassah Donor Event - May 2025
DESCRIPTION:Jewish Federation of Central Massachusetts\nCalendar\nhttps://j
 ewishcentralmass.org/calendar/hadassah-donor-event-may-2025\n\nHadassah Do
 nor Event - May 2025\n\nTime: TBD
DTSTART;TZID=America/New_York:20250504T120000
DTEND;TZID=America/New_York:20250504T170000
END:VEVENT
END:VCALENDAR
