BEGIN:VCALENDAR
PRODID:-//eluceo/ical//2.0/EN
VERSION:2.0
CALSCALE:GREGORIAN
BEGIN:VEVENT
UID:12340f2cf6b7eaacd50f0ed605894c84
DTSTAMP:20260421T152355Z
SUMMARY:Hadassah Donor Brunch
DESCRIPTION:Jewish Federation of Central Massachusetts\nCalendar\nhttps://j
 ewishcentralmass.org/calendar/hadassah-donor-brunch\n\nHadassah Donor Brun
 ch
DTSTART;TZID=America/New_York:20140427T090000
DTEND;TZID=America/New_York:20140427T093000
END:VEVENT
END:VCALENDAR
