BEGIN:VCALENDAR
PRODID:-//eluceo/ical//2.0/EN
VERSION:2.0
CALSCALE:GREGORIAN
BEGIN:VEVENT
UID:6356f41e3b86a3164e818d94a2c5a4d7
DTSTAMP:20260422T195709Z
SUMMARY:Hadassah Community Health Fair
DESCRIPTION:Jewish Federation of Central Massachusetts\nCalendar\nhttps://j
 ewishcentralmass.org/calendar/hadassah-community-health-fair\n\nHadassah C
 ommunity Health Fair
DTSTART;TZID=America/New_York:20130421T000000
DTEND;TZID=America/New_York:20130421T235900
END:VEVENT
END:VCALENDAR
