BEGIN:VCALENDAR
PRODID:-//eluceo/ical//2.0/EN
VERSION:2.0
CALSCALE:GREGORIAN
BEGIN:VEVENT
UID:7f87c0a1207b3d20ab604c2124b639e1
DTSTAMP:20260423T064129Z
SUMMARY:Hadassah Brunch @ Willows
DESCRIPTION:Jewish Federation of Central Massachusetts\nCalendar\nhttps://j
 ewishcentralmass.org/calendar/hadassah-brunch--willows\n\nHadassah Brunch 
 @ Willows
DTSTART;TZID=America/New_York:20130421T110000
DTEND;TZID=America/New_York:20130421T113000
END:VEVENT
END:VCALENDAR
