BEGIN:VCALENDAR
PRODID:-//eluceo/ical//2.0/EN
VERSION:2.0
CALSCALE:GREGORIAN
BEGIN:VEVENT
UID:71b89d3773bd3568bd8cfe8df20d6148
DTSTAMP:20260422T051532Z
SUMMARY:Hadassah Boroughs January '25 event
DESCRIPTION:Jewish Federation of Central Massachusetts\nCalendar\nhttps://j
 ewishcentralmass.org/calendar/hadassah-boroughs-january-25-event\n\nJanuar
 y 16th \n\nHadassah Boroughs special event.  \n\n7:00 pm
DTSTART;TZID=America/New_York:20250116T190000
DTEND;TZID=America/New_York:20250116T210000
END:VEVENT
END:VCALENDAR
