BEGIN:VCALENDAR
PRODID:-//eluceo/ical//2.0/EN
VERSION:2.0
CALSCALE:GREGORIAN
BEGIN:VEVENT
UID:5a03cbcfef61655d371217cf54902216
DTSTAMP:20260423T213634Z
SUMMARY:Hadassah Book Club
DESCRIPTION:Jewish Federation of Central Massachusetts\nCalendar\nhttps://j
 ewishcentralmass.org/calendar/hadassah-book-club\n\nHadassah Book Club\n\n
 2:00 pm
DTSTART;TZID=America/New_York:20220829T140000
DTEND;TZID=America/New_York:20220829T160000
END:VEVENT
END:VCALENDAR
