BEGIN:VCALENDAR
PRODID:-//eluceo/ical//2.0/EN
VERSION:2.0
CALSCALE:GREGORIAN
BEGIN:VEVENT
UID:bde87351f01a29304160687ca03c6a7d
DTSTAMP:20260423T090455Z
SUMMARY:Hadassah Academic College Presidential Visit
DESCRIPTION:Jewish Federation of Central Massachusetts\nCalendar\nhttps://j
 ewishcentralmass.org/calendar/hadassah-academic-college-presidential-visit
 \n\nHadassah College Parlor Mtgs
DTSTART;TZID=America/New_York:20140429T180000
DTEND;TZID=America/New_York:20140502T180000
END:VEVENT
END:VCALENDAR
