BEGIN:VCALENDAR
PRODID:-//eluceo/ical//2.0/EN
VERSION:2.0
CALSCALE:GREGORIAN
BEGIN:VEVENT
UID:bc9941e3801f96ff4c0e406baf97f63e
DTSTAMP:20260421T143330Z
SUMMARY:Greater Boroughs Hadassah Adv
DESCRIPTION:Jewish Federation of Central Massachusetts\nCalendar\nhttps://j
 ewishcentralmass.org/calendar/greater-boroughs-hadassah-adv\n\nGreater Bor
 oughs Hadassah Adv\n\n6:00 pm
DTSTART;TZID=America/New_York:20220913T180000
DTEND;TZID=America/New_York:20220913T200000
END:VEVENT
END:VCALENDAR
