BEGIN:VCALENDAR
PRODID:-//eluceo/ical//2.0/EN
VERSION:2.0
CALSCALE:GREGORIAN
BEGIN:VEVENT
UID:308c3d034db1eb799a624dd520e1963b
DTSTAMP:20260423T061724Z
SUMMARY:Golda’s Balcony
DESCRIPTION:Jewish Federation of Central Massachusetts\nCalendar\nhttps://j
 ewishcentralmass.org/calendar/goldas-balcony\n\nGolda’s Balcony\nFeb 28 
 - 2:00 pm show\nBoston\n\nGolda’s Balcony in playing at Emerson Theatre 
 in Boston: Jewish Federation has arranged for a visit to see the show on 
 Feb. 28 at 2PM. Get Seats! (emersontheatres.org)\n\nPlease let us know i
 f you plan to attend on Feb. 28th and we will do our best to coordinate t
 ransportation\, if enough people sign up\, we will arrange a van/bus
DTSTART;TZID=America/New_York:20240228T140000
DTEND;TZID=America/New_York:20240228T160000
END:VEVENT
END:VCALENDAR
