BEGIN:VCALENDAR
PRODID:-//eluceo/ical//2.0/EN
VERSION:2.0
CALSCALE:GREGORIAN
BEGIN:VEVENT
UID:1eb730f85b73dda2446c3b04f7843ecf
DTSTAMP:20260423T020815Z
SUMMARY:Genealogy Historical Society Event
DESCRIPTION:Jewish Federation of Central Massachusetts\nCalendar\nhttps://j
 ewishcentralmass.org/calendar/genealogy-historical-society-event\n\nGeneal
 ogy Historical Society Event.\n\nTime and place tbd. 
DTSTART;TZID=America/New_York:20181111T130000
DTEND;TZID=America/New_York:20181111T150000
END:VEVENT
END:VCALENDAR
