BEGIN:VCALENDAR
PRODID:-//eluceo/ical//2.0/EN
VERSION:2.0
CALSCALE:GREGORIAN
BEGIN:VEVENT
UID:c7e62f58db21c090b7db1346df7eb992
DTSTAMP:20260423T175641Z
SUMMARY:From Genesis and Beyond: Shabbat Texts Throughout Jewish Tradition
DESCRIPTION:Jewish Federation of Central Massachusetts\nCalendar\nhttps://j
 ewishcentralmass.org/calendar/from-genesis-and-beyond-shabbat-texts-throug
 hout-jewish-tradition\n\nWednesday\, February 14th\, 7:30 pm\n\nFrom Genes
 is and Beyond: Shabbat Texts Throughout Jewish Tradition\n\nRabbi Mike Swa
 rttz\, zoom only\n\nRSVP: michaelswarttz@rcn.com 
DTSTART;TZID=America/New_York:20240214T193000
DTEND;TZID=America/New_York:20240214T213000
END:VEVENT
END:VCALENDAR
