BEGIN:VCALENDAR
PRODID:-//eluceo/ical//2.0/EN
VERSION:2.0
CALSCALE:GREGORIAN
BEGIN:VEVENT
UID:9ef97dd56f746fa2d95dec0f2c5950ee
DTSTAMP:20260425T171424Z
SUMMARY:Florida Reunion 2023
DESCRIPTION:Jewish Federation of Central Massachusetts\nCalendar\nhttps://j
 ewishcentralmass.org/calendar/florida-reunion-2023\n\nFlorida Reunion
DTSTART;TZID=America/New_York:20230202T120000
DTEND;TZID=America/New_York:20230202T140000
END:VEVENT
END:VCALENDAR
