BEGIN:VCALENDAR
PRODID:-//eluceo/ical//2.0/EN
VERSION:2.0
CALSCALE:GREGORIAN
BEGIN:VEVENT
UID:1b50217b64e3170098ef797c6e3210aa
DTSTAMP:20260422T105820Z
SUMMARY:FIRST SEDER
DESCRIPTION:Jewish Federation of Central Massachusetts\nCalendar\nhttps://j
 ewishcentralmass.org/calendar/first-seder\n\nFIRST SEDER
DTSTART;TZID=America/New_York:20130325T000000
DTEND;TZID=America/New_York:20130325T235900
END:VEVENT
END:VCALENDAR
